BEGIN:VCALENDAR
VERSION:2.0
PRODID:-//Dauphin Highlands - ECPv6.15.18//NONSGML v1.0//EN
CALSCALE:GREGORIAN
METHOD:PUBLISH
X-WR-CALNAME:Dauphin Highlands
X-ORIGINAL-URL:https://www.golfdauphinhighlands.com
X-WR-CALDESC:Events for Dauphin Highlands
REFRESH-INTERVAL;VALUE=DURATION:PT1H
X-Robots-Tag:noindex
X-PUBLISHED-TTL:PT1H
BEGIN:VTIMEZONE
TZID:UTC
BEGIN:STANDARD
TZOFFSETFROM:+0000
TZOFFSETTO:+0000
TZNAME:UTC
DTSTART:20250101T000000
END:STANDARD
END:VTIMEZONE
BEGIN:VEVENT
DTSTART;TZID=UTC:20260328T091500
DTEND;TZID=UTC:20260328T140000
DTSTAMP:20260419T183058
CREATED:20260323T150201Z
LAST-MODIFIED:20260323T150403Z
UID:10000006-1774689300-1774706400@www.golfdauphinhighlands.com
SUMMARY:Hockey Winter Classic
DESCRIPTION: \n\n\n\nJoin us for a fun 2-Person Scramble with a unique hockey twist. Each team will represent an NHL franchise with prizes for Division winners and the Stanley Cup Champion! \n\n\n\nSaturday\, March 28th\, 20269:15 AM Shotgun Start \n\n\n\nTees:Men – Blue | Seniors (55+) – White | Women – Red \n\n\n\nEntry Fee:$56 per player | $49 Advantage Card | $40 Annual Member(Pay for both players at checkout) \n\n\n\nIncludes:18 Holes with CartPractice Facility AccessPrize Payouts & Giveaways2 Drink TicketsGolf Shop & Grille Specials \n\n\n\nThis Event is SOLD OUT! \n\n\n\n\n \n\n\n\n \n\n\n\n 
URL:https://www.golfdauphinhighlands.com/event/hockey-winter-classic-2/
END:VEVENT
END:VCALENDAR