BEGIN:VCALENDAR
VERSION:2.0
PRODID:-//Dauphin Highlands - ECPv6.15.18//NONSGML v1.0//EN
CALSCALE:GREGORIAN
METHOD:PUBLISH
X-WR-CALNAME:Dauphin Highlands
X-ORIGINAL-URL:https://www.golfdauphinhighlands.com
X-WR-CALDESC:Events for Dauphin Highlands
REFRESH-INTERVAL;VALUE=DURATION:PT1H
X-Robots-Tag:noindex
X-PUBLISHED-TTL:PT1H
BEGIN:VTIMEZONE
TZID:America/New_York
BEGIN:DAYLIGHT
TZOFFSETFROM:-0500
TZOFFSETTO:-0400
TZNAME:EDT
DTSTART:20250309T070000
END:DAYLIGHT
BEGIN:STANDARD
TZOFFSETFROM:-0400
TZOFFSETTO:-0500
TZNAME:EST
DTSTART:20251102T060000
END:STANDARD
BEGIN:DAYLIGHT
TZOFFSETFROM:-0500
TZOFFSETTO:-0400
TZNAME:EDT
DTSTART:20260308T070000
END:DAYLIGHT
BEGIN:STANDARD
TZOFFSETFROM:-0400
TZOFFSETTO:-0500
TZNAME:EST
DTSTART:20261101T060000
END:STANDARD
BEGIN:DAYLIGHT
TZOFFSETFROM:-0500
TZOFFSETTO:-0400
TZNAME:EDT
DTSTART:20270314T070000
END:DAYLIGHT
BEGIN:STANDARD
TZOFFSETFROM:-0400
TZOFFSETTO:-0500
TZNAME:EST
DTSTART:20271107T060000
END:STANDARD
END:VTIMEZONE
BEGIN:VEVENT
DTSTART;TZID=America/New_York:20260506T173000
DTEND;TZID=America/New_York:20260506T200000
DTSTAMP:20260421T054326
CREATED:20260414T135555Z
LAST-MODIFIED:20260414T135600Z
UID:10000008-1778088600-1778097600@www.golfdauphinhighlands.com
SUMMARY:Spring Women's Clinics
DESCRIPTION:Come Out Swinging! This is a fun-filled clinic focused on the full swing and perfect for all skill levels. Afterward\, swing by the clubhouse and chill with a cool beverage.  \n\n\n\n2 Sessions – 5:30pm and 6:45pm
URL:https://www.golfdauphinhighlands.com/event/spring-womens-clinics/
END:VEVENT
END:VCALENDAR