BEGIN:VCALENDAR
VERSION:2.0
PRODID:-//Dauphin Highlands - ECPv6.15.18//NONSGML v1.0//EN
CALSCALE:GREGORIAN
METHOD:PUBLISH
X-ORIGINAL-URL:https://www.golfdauphinhighlands.com
X-WR-CALDESC:Events for Dauphin Highlands
REFRESH-INTERVAL;VALUE=DURATION:PT1H
X-Robots-Tag:noindex
X-PUBLISHED-TTL:PT1H
BEGIN:VTIMEZONE
TZID:America/New_York
BEGIN:DAYLIGHT
TZOFFSETFROM:-0500
TZOFFSETTO:-0400
TZNAME:EDT
DTSTART:20250309T070000
END:DAYLIGHT
BEGIN:STANDARD
TZOFFSETFROM:-0400
TZOFFSETTO:-0500
TZNAME:EST
DTSTART:20251102T060000
END:STANDARD
BEGIN:DAYLIGHT
TZOFFSETFROM:-0500
TZOFFSETTO:-0400
TZNAME:EDT
DTSTART:20260308T070000
END:DAYLIGHT
BEGIN:STANDARD
TZOFFSETFROM:-0400
TZOFFSETTO:-0500
TZNAME:EST
DTSTART:20261101T060000
END:STANDARD
BEGIN:DAYLIGHT
TZOFFSETFROM:-0500
TZOFFSETTO:-0400
TZNAME:EDT
DTSTART:20270314T070000
END:DAYLIGHT
BEGIN:STANDARD
TZOFFSETFROM:-0400
TZOFFSETTO:-0500
TZNAME:EST
DTSTART:20271107T060000
END:STANDARD
END:VTIMEZONE
BEGIN:VEVENT
DTSTART;TZID=America/New_York:20260513T173000
DTEND;TZID=America/New_York:20260513T200000
DTSTAMP:20260423T043833
CREATED:20260414T162426Z
LAST-MODIFIED:20260414T162432Z
UID:10000009-1778693400-1778702400@www.golfdauphinhighlands.com
SUMMARY:Spring Women's Clinics
DESCRIPTION:Let’s Iron It Out! Hitting it fat? Hitting it thin? Let’s iron out those issues during this clinic focused on the irons and the full swing. Perfect for all levels! Then socialize in the clubhouse with a frosty beverage.  \n\n\n\n2 Sessions – 5:30pm and 6:45pm
URL:https://www.golfdauphinhighlands.com/event/spring-womens-clinics-2/
END:VEVENT
END:VCALENDAR